BEGIN:VCALENDAR
VERSION:2.0
PRODID:-//Known - ECPv6.15.20//NONSGML v1.0//EN
CALSCALE:GREGORIAN
METHOD:PUBLISH
X-WR-CALNAME:Known
X-ORIGINAL-URL:https://scalewithknown.com
X-WR-CALDESC:Events for Known
REFRESH-INTERVAL;VALUE=DURATION:PT1H
X-Robots-Tag:noindex
X-PUBLISHED-TTL:PT1H
BEGIN:VTIMEZONE
TZID:America/New_York
BEGIN:DAYLIGHT
TZOFFSETFROM:-0500
TZOFFSETTO:-0400
TZNAME:EDT
DTSTART:20220313T070000
END:DAYLIGHT
BEGIN:STANDARD
TZOFFSETFROM:-0400
TZOFFSETTO:-0500
TZNAME:EST
DTSTART:20221106T060000
END:STANDARD
BEGIN:DAYLIGHT
TZOFFSETFROM:-0500
TZOFFSETTO:-0400
TZNAME:EDT
DTSTART:20230312T070000
END:DAYLIGHT
BEGIN:STANDARD
TZOFFSETFROM:-0400
TZOFFSETTO:-0500
TZNAME:EST
DTSTART:20231105T060000
END:STANDARD
BEGIN:DAYLIGHT
TZOFFSETFROM:-0500
TZOFFSETTO:-0400
TZNAME:EDT
DTSTART:20240310T070000
END:DAYLIGHT
BEGIN:STANDARD
TZOFFSETFROM:-0400
TZOFFSETTO:-0500
TZNAME:EST
DTSTART:20241103T060000
END:STANDARD
END:VTIMEZONE
BEGIN:VEVENT
DTSTART;TZID=America/New_York:20231203T080000
DTEND;TZID=America/New_York:20231205T170000
DTSTAMP:20260421T201017
CREATED:20240416T113554Z
LAST-MODIFIED:20240416T113554Z
UID:4034-1701590400-1701795600@scalewithknown.com
SUMMARY:Opal Family Office Alternative Investment Conference
DESCRIPTION:Known President and co-founder Valerie Red-Horse Mohl will speak at the Opal Family Office Alternative Investment Conference. \nThe Alternative Investing Summit will bring together trustees and representatives of institutions as well as money managers and consultants to explore the roles of alternative opportunities and strategies.
URL:https://scalewithknown.com/event/opal-family-office-alternative-investment-conference/
ATTACH;FMTTYPE=image/jpeg:https://scalewithknown.com/wp-content/uploads/2024/04/download.jpeg
END:VEVENT
BEGIN:VEVENT
DTSTART;TZID=America/New_York:20231202T183000
DTEND;TZID=America/New_York:20231202T230000
DTSTAMP:20260421T201017
CREATED:20240417T135921Z
LAST-MODIFIED:20240417T135921Z
UID:4058-1701541800-1701558000@scalewithknown.com
SUMMARY:Nexus and Known Art Basel Miami
DESCRIPTION:DARING CONVERSATIONS powered by Known Holdings. The evening featured a cocktail reception and fireside chat with Favianna Rodriguez\, interdisciplinary artist & President of the Center for Cultural Power\, and Andre Gaines\, Emmy®-nominated producer\, writer\, director and founder of Cinemation Studios. The dinner conversation that followed focused on the importance of ownership for artists of color.
URL:https://scalewithknown.com/event/nexus-and-known-art-basel-miami/
ATTACH;FMTTYPE=image/jpeg:https://scalewithknown.com/wp-content/uploads/2024/04/Art_Basel_Miami_Beach_2023_Ebony_G_Patterson_thubmnail__002_-1068x458-2.jpg
END:VEVENT
BEGIN:VEVENT
DTSTART;TZID=America/New_York:20231024T103000
DTEND;TZID=America/New_York:20231024T120000
DTSTAMP:20260421T201017
CREATED:20240417T101847Z
LAST-MODIFIED:20240417T101847Z
UID:4054-1698143400-1698148800@scalewithknown.com
SUMMARY:Investors Pitch Off: A Role Reversal as Investors Woo Entrepreneurs to Take Their Money
DESCRIPTION:Known co-founder and CSO Nathalie Molina Niño will be moderating the “Investors Pitch Off: A Role Reversal as Investors Woo Entrepreneurs to Take Their Money” session at SOCAP. \nCome witness a role reversal as investors step up to the plate\, passionately pitching their resources\, expertise\, and capital to entice talented entrepreneurs into accepting their investments. Join us as investors\, accustomed to hearing entrepreneurial pitches\, take center stage to showcase their value proposition. Discover how they differentiate themselves from the competition\, highlight their track record of successful partnerships\, and articulate their vision for mutual growth. Through engaging presentations\, discussions and real-life case studies\, you will learn about the different types of capital that exist in the impact investing market\, gain unique insights into the strategies employed by investors to win over ambitious entrepreneurs and secure lucrative investment opportunities.
URL:https://scalewithknown.com/event/investors-pitch-off-a-role-reversal-as-investors-woo-entrepreneurs-to-take-their-money/
ATTACH;FMTTYPE=image/jpeg:https://scalewithknown.com/wp-content/uploads/2024/04/SOCAP23.jpeg
END:VEVENT
BEGIN:VEVENT
DTSTART;TZID=America/New_York:20231024T080000
DTEND;TZID=America/New_York:20231024T170000
DTSTAMP:20260421T201017
CREATED:20240712T202033Z
LAST-MODIFIED:20240712T202033Z
UID:4095-1698134400-1698166800@scalewithknown.com
SUMMARY:Known Anniversary Private Reception at SOCAP
DESCRIPTION:The Known and SOCAP teams are having a private reception during their yearly  flagship events convening the largest and  most diverse impact investing community\, at the stunning Jewish Contemporary History Museum. \nKnown and our beloved community will celebrate our two-year anniversary of working towards shifting ownership toward the global majority. \nEmail : events@scalewithknown.com for details
URL:https://scalewithknown.com/event/known-anniversary-private-reception-at-socap/
LOCATION:San Francisco
ATTACH;FMTTYPE=image/jpeg:https://scalewithknown.com/wp-content/uploads/2024/07/download-1.jpeg
END:VEVENT
BEGIN:VEVENT
DTSTART;TZID=America/New_York:20231021T080000
DTEND;TZID=America/New_York:20231022T170000
DTSTAMP:20260421T201017
CREATED:20240417T101330Z
LAST-MODIFIED:20240417T101330Z
UID:4052-1697875200-1697994000@scalewithknown.com
SUMMARY:Funding Your Company: An Expert Townhall
DESCRIPTION:Our co-founder and CSO Nathalie Molina Niño will be speaking at the event Funding Your Company: An Expert Townhall taking place at the #WeAllGrow Weekend Fest hosted by We All Grow Latina.
URL:https://scalewithknown.com/event/funding-your-company-an-expert-townhall/
ATTACH;FMTTYPE=image/jpeg:https://scalewithknown.com/wp-content/uploads/2024/04/imagess.jpeg
END:VEVENT
BEGIN:VEVENT
DTSTART;TZID=America/New_York:20231018T080000
DTEND;TZID=America/New_York:20231018T170000
DTSTAMP:20260421T201017
CREATED:20240712T202859Z
LAST-MODIFIED:20240717T162615Z
UID:4097-1697616000-1697648400@scalewithknown.com
SUMMARY:2023: Family Office Private Wealth Forum West
DESCRIPTION:Known co-founder and President Valerie Red-Horse Mohl  will be a speaker at  the keynote Discussion: Diversity\, Equity\, and Inclusion within Investment Management & Financial Services at the 2023 Family Office Private Wealth Forum West.
URL:https://scalewithknown.com/event/2023-family-office-private-wealth-forum-west/
LOCATION:Napa Valley
ATTACH;FMTTYPE=image/jpeg:https://scalewithknown.com/wp-content/uploads/2024/07/25863e61c082a645e7c5bee15dcd1e0b.jpg
END:VEVENT
BEGIN:VEVENT
DTSTART;TZID=America/New_York:20231005T170000
DTEND;TZID=America/New_York:20231005T210000
DTSTAMP:20260421T201017
CREATED:20240417T100726Z
LAST-MODIFIED:20240717T163701Z
UID:4048-1696525200-1696539600@scalewithknown.com
SUMMARY:Justworks Spring Forward Fund Award
DESCRIPTION:Known co-founder and CSO Nathalie Molina Niño will be one of three judges who will elect this year’s grant recipient. \nFor the past four years\, Justworks has been awarding up to $25\,000 to one of their non-profit customers as part of their Spring Forward Fund. This year’s focus will be on supporting a program that is creating more equitable access for an underserved community\, whether it is on healthcare\, food security\, literacy\, education\, etc.
URL:https://scalewithknown.com/event/justworks-spring-forward-fund-award/
ATTACH;FMTTYPE=image/avif:https://scalewithknown.com/wp-content/uploads/2024/04/photo-1637041886623-116ef6151020.avif
END:VEVENT
BEGIN:VEVENT
DTSTART;TZID=America/New_York:20230918T190000
DTEND;TZID=America/New_York:20230919T210000
DTSTAMP:20260421T201017
CREATED:20240416T111356Z
LAST-MODIFIED:20240717T164305Z
UID:4030-1695063600-1695157200@scalewithknown.com
SUMMARY:Clinton Global Initiative Dinner Club
DESCRIPTION:Known co-founder and CSO Nathalie Molina Niño will be hosting a curated dinner for the Clinton Global Initiative (CGI) community. CGI Dinner Club offers attendees the opportunity to have open discussions on shared interests\, explore new passions\, and forge solutions to our most pressing challenges – all over a shared meal. The CGI team carefully curates each table with 8 to 12 individuals who complement each others philanthropic focus and professional background.
URL:https://scalewithknown.com/event/clinton-global-initiative-dinner-club/
ATTACH;FMTTYPE=image/jpeg:https://scalewithknown.com/wp-content/uploads/2024/04/35e888ae583bbe13936d82ef49b69a2d-scaled.jpg
END:VEVENT
BEGIN:VEVENT
DTSTART;TZID=America/New_York:20230918T183000
DTEND;TZID=America/New_York:20230918T210000
DTSTAMP:20260421T201017
CREATED:20240416T110903Z
LAST-MODIFIED:20240717T161458Z
UID:4029-1695061800-1695070800@scalewithknown.com
SUMMARY:Cocktails & Conversation during CGI & UNGA presented by Known & Environmental Advocates NY
DESCRIPTION:Join NEXUS\, Known and Environmental Advocates NY for an inspiring evening of Cocktails and Conversation in a private home in NYC during UNGA and CGI! \nIf you’re interested in attending\, please email events@scalewithknown.com
URL:https://scalewithknown.com/event/cocktails-conversation-during-cgi-unga-presented-by-known-environmental-advocates-ny/
ATTACH;FMTTYPE=image/webp:https://scalewithknown.com/wp-content/uploads/2024/04/0001-4297959154663693243.webp
END:VEVENT
BEGIN:VEVENT
DTSTART;TZID=America/New_York:20230910T080000
DTEND;TZID=America/New_York:20230913T170000
DTSTAMP:20260421T201017
CREATED:20240416T105910Z
LAST-MODIFIED:20240416T105910Z
UID:4028-1694332800-1694624400@scalewithknown.com
SUMMARY:Gratitude Investor Gathering
DESCRIPTION:Known President and co-founder\, Valerie Red-Horse Mohl\, will be speaking at the 2023 Gratitude Investor Gathering. \nFrom outdoor sessions under the canopy of thousand year old redwoods\, to fireside chats around roaring fire pits\, this year’s Gathering venue – 1440 Multiversity – specializes in curated experiences that inspire the best in the human spirit to cultivate the greater good.
URL:https://scalewithknown.com/event/gratitude-investor-gathering/
LOCATION:AI Talk Partnership
ATTACH;FMTTYPE=image/jpeg:https://scalewithknown.com/wp-content/uploads/2024/04/1691681270660.jpeg
END:VEVENT
BEGIN:VEVENT
DTSTART;TZID=America/New_York:20230822T080000
DTEND;TZID=America/New_York:20230822T170000
DTSTAMP:20260421T201017
CREATED:20240416T104744Z
LAST-MODIFIED:20240416T104744Z
UID:4027-1692691200-1692723600@scalewithknown.com
SUMMARY:Blk Grvty Home Ownership Talk
DESCRIPTION:Blk Grvty and the Robert Wood Johnson Foundation will give a talk about home ownership in the S&S Kitchenette.
URL:https://scalewithknown.com/event/blk-grvty-home-ownership-talk/
LOCATION:10th Annual Northern California Institutional Forum
ATTACH;FMTTYPE=image/jpeg:https://scalewithknown.com/wp-content/uploads/2024/04/August22.jpeg
END:VEVENT
BEGIN:VEVENT
DTSTART;TZID=America/New_York:20230818T080000
DTEND;TZID=America/New_York:20230818T170000
DTSTAMP:20260421T201017
CREATED:20240416T104235Z
LAST-MODIFIED:20240416T104235Z
UID:4026-1692345600-1692378000@scalewithknown.com
SUMMARY:AI Talk Partnership
DESCRIPTION:Blk Grvty and Partnership on AI CSO Felecia Webb will give a talk on AI.
URL:https://scalewithknown.com/event/ai-talk-partnership/
LOCATION:10th Annual Northern California Institutional Forum
ATTACH;FMTTYPE=image/jpeg:https://scalewithknown.com/wp-content/uploads/2024/04/August18.jpeg
END:VEVENT
BEGIN:VEVENT
DTSTART;TZID=America/New_York:20230817T210000
DTEND;TZID=America/New_York:20230817T230000
DTSTAMP:20260421T201017
CREATED:20240416T103658Z
LAST-MODIFIED:20240416T103658Z
UID:4025-1692306000-1692313200@scalewithknown.com
SUMMARY:Sip for Change with Birth Queen
DESCRIPTION:Enjoy an educational talk and refreshments at Known Loft with Rachel Nicks\, founder of Birth Queen.
URL:https://scalewithknown.com/event/sip-for-change-with-birth-queen/
LOCATION:10th Annual Northern California Institutional Forum
ATTACH;FMTTYPE=image/jpeg:https://scalewithknown.com/wp-content/uploads/2024/04/images.jpeg
END:VEVENT
BEGIN:VEVENT
DTSTART;TZID=America/New_York:20230814T080000
DTEND;TZID=America/New_York:20230814T170000
DTSTAMP:20260421T201017
CREATED:20240416T102949Z
LAST-MODIFIED:20240717T160533Z
UID:4024-1692000000-1692032400@scalewithknown.com
SUMMARY:Artist Salon Talk with Pigment International
DESCRIPTION:Artist Salon Talk with Pigment International at Known Loft.
URL:https://scalewithknown.com/event/artist-salon-talk-with-pigment-international/
LOCATION:10th Annual Northern California Institutional Forum
ATTACH;FMTTYPE=image/avif:https://scalewithknown.com/wp-content/uploads/2024/04/photo-1586150055793-99d0c29898ed.avif
END:VEVENT
BEGIN:VEVENT
DTSTART;TZID=America/New_York:20230810T080000
DTEND;TZID=America/New_York:20230810T170000
DTSTAMP:20260421T201017
CREATED:20240415T175725Z
LAST-MODIFIED:20240415T175725Z
UID:4023-1691654400-1691686800@scalewithknown.com
SUMMARY:Unlocking the GP Commit & Cashflow
DESCRIPTION:Black Women in Venture Capital Fireside Chat hosted by Veronica Reaves. Known’s Managing Partner Demetric Duckett\, and Blk Grvty’s CEO Dr. JaNay Queen Nazaire and COO Chipo Sachirarwe will be on the panel.
URL:https://scalewithknown.com/event/unlocking-the-gp-commit-cashflow/
LOCATION:Opal Exchange 2024
ATTACH;FMTTYPE=image/png:https://scalewithknown.com/wp-content/uploads/2024/04/image-1.png
END:VEVENT
BEGIN:VEVENT
DTSTART;TZID=America/New_York:20230807T080000
DTEND;TZID=America/New_York:20230809T170000
DTSTAMP:20260421T201017
CREATED:20240415T174514Z
LAST-MODIFIED:20240415T174514Z
UID:4022-1691395200-1691600400@scalewithknown.com
SUMMARY:Unleashing the Power of Connections
DESCRIPTION:Known co-founder and Chief Strategy Officer Nathalie Molina Niño will be on the Founder Journey Panel at COI Ladder Institutes 10th Annual Female & BIPOC Founders Retreat. \nJoin accredited investors\, top corporations\, leading venture partners\, exceptional founders\, and like-minded individuals committed to advancing the agenda of underrepresented startups. \nLearn best practices\, strategies\, and ideas you can implement today. Hear from some of the biz’s most innovative founders\, investors\, strategists\, and technologists. Leave the retreat feeling relaxed\, empowered\, and motivated to elevate your business to the next level\, sustained by profound connections.
URL:https://scalewithknown.com/event/unleashing-the-power-of-connections/
LOCATION:10th Annual Northern California Institutional Forum
ATTACH;FMTTYPE=image/jpeg:https://scalewithknown.com/wp-content/uploads/2024/04/https___cdn.evbuc_.com_images_544679539_1629519413483_1_original.jpeg
END:VEVENT
BEGIN:VEVENT
DTSTART;TZID=America/New_York:20230623T151500
DTEND;TZID=America/New_York:20230623T161500
DTSTAMP:20260421T201017
CREATED:20240415T172859Z
LAST-MODIFIED:20240717T153954Z
UID:4006-1687533300-1687536900@scalewithknown.com
SUMMARY:Future Proofing Your Legacy & Investments Starts with Transforming Yourself
DESCRIPTION:Known CEO\, Jim Casselberry joins Silvia Vasquez-Lavado to discuss future proofing your legacy and transforming yourself. This discussion will be moderated by Known CSO\, Nathalie Molina Niño.
URL:https://scalewithknown.com/event/future-proofing-your-legacy-investments-starts-with-transforming-yourself/
ATTACH;FMTTYPE=image/avif:https://scalewithknown.com/wp-content/uploads/2024/04/photo-1522083165195-3424ed129620.avif
END:VEVENT
BEGIN:VEVENT
DTSTART;TZID=America/New_York:20230613T000000
DTEND;TZID=America/New_York:20230613T000000
DTSTAMP:20260421T201017
CREATED:20240717T153045Z
LAST-MODIFIED:20240717T161223Z
UID:4100-1686614400-1686614400@scalewithknown.com
SUMMARY:Global Investors Annual Meeting
DESCRIPTION:Known co-founder and CEO Jim Casselberry will be a speaker at LinkBridge Investors Annual Meeting in New York City. The Global Investors Annual Meeting is a closed-door program that gathers the world’s leading managers\, institutional allocators and private wealth investors currently investing and fundraising across the globe. This meeting offers a unique platform to learn from and alongside industry thought leaders. Panel sessions and Private meetings throughout the day will allow for deepening relationships\, developing partnerships and fostering businesses. This one-day event will host up to 400 leading investors\, managers and other professionals to discuss investment opportunities and new trends in the market.
URL:https://scalewithknown.com/event/global-investors-annual-meeting/
LOCATION:New York\, NY
ATTACH;FMTTYPE=image/avif:https://scalewithknown.com/wp-content/uploads/2024/07/entrada.avif
END:VEVENT
BEGIN:VEVENT
DTSTART;TZID=America/New_York:20230607T180000
DTEND;TZID=America/New_York:20230607T200000
DTSTAMP:20260421T201017
CREATED:20240415T163614Z
LAST-MODIFIED:20240415T163614Z
UID:4000-1686160800-1686168000@scalewithknown.com
SUMMARY:Impact Investing Fireside Chat with WRAG
DESCRIPTION:How are foundations leveraging their investments to produce positive social and environmental benefits in addition to financial returns? Join WRAG for a funders-only fireside chat on impact investing; what it is\, what it is not\, and how it is aligned with racial justice! \nDuring this fireside chat you will hear from WRAG’s President & CEO\, Ruth L. & Known‘s Co-Founder and President Valerie Red-Horse Mohl as they discuss the basics of impact investing\, the role it plays in our mission and strategy\, and what is needed for an effective and conscientious plan.
URL:https://scalewithknown.com/event/impact-investing-fireside-chat-with-wrag/
LOCATION:The Events Calendar – Dynamic template
ATTACH;FMTTYPE=image/jpeg:https://scalewithknown.com/wp-content/uploads/2024/04/Funders-ONly.jpeg
END:VEVENT
BEGIN:VEVENT
DTSTART;TZID=America/New_York:20230318T080000
DTEND;TZID=America/New_York:20230318T170000
DTSTAMP:20260421T201017
CREATED:20240417T100056Z
LAST-MODIFIED:20240717T154916Z
UID:4046-1679126400-1679158800@scalewithknown.com
SUMMARY:A Special Celebration with Morehouse College Board of Trustees
DESCRIPTION:Vanessa Bell Calloway’s Birthday Celebration and Morehouse Fundraiser sponsored by Known.
URL:https://scalewithknown.com/event/a-special-celebration-with-morehouse-college-board-of-trustees/
LOCATION:Los Angeles\, CA
ATTACH;FMTTYPE=image/jpeg:https://scalewithknown.com/wp-content/uploads/2024/04/vanessa_bell_calloway_-_teal_mosss_photo-4993_720.jpg
END:VEVENT
BEGIN:VEVENT
DTSTART;TZID=America/New_York:20230313T183000
DTEND;TZID=America/New_York:20230313T200000
DTSTAMP:20260421T201017
CREATED:20240417T095528Z
LAST-MODIFIED:20240717T154210Z
UID:4042-1678732200-1678737600@scalewithknown.com
SUMMARY:The Next Economy\, an intimate conversation about betting on the New Majority
DESCRIPTION:Known co-founder and Chief Strategy Officer Nathalie Molina Niño joins The Battery Club co-founder\, Xochi Birch to talk about priorities at the intersection of Gen X\, the New Majority\, and Gender.
URL:https://scalewithknown.com/event/the-next-economy-an-intimate-conversation-about-betting-on-the-new-majority/
ATTACH;FMTTYPE=image/jpeg:https://scalewithknown.com/wp-content/uploads/2024/04/the_battery.jpg
END:VEVENT
BEGIN:VEVENT
DTSTART;TZID=America/New_York:20230308T080000
DTEND;TZID=America/New_York:20230308T170000
DTSTAMP:20260421T201017
CREATED:20240417T094923Z
LAST-MODIFIED:20240717T153745Z
UID:4039-1678262400-1678294800@scalewithknown.com
SUMMARY:7th Annual Real Estate West Forum
DESCRIPTION:Known President and co-founder\, Valerie Red-Horse Mohl\, will be speaking at the 7th Annual Real Estate West Forum. \nThe Forum is a local peer-to-peer educational event exclusively for the institutional and high net worth wealth management community with a specific focus on allocations to real estate. \nThe forum brings together investors\, funds\, and advisers for a one-day meeting to discuss sectors\, due diligence\, and real estate investment opportunities in the US and around the world. \nThe investor-focused event provides a due diligence platform for US based and international pension funds\, foundations\, endowments\, fund of funds\, family offices\, wealth managers\, consultants\, and sovereign wealth funds interested in direct research on real estate opportunities.
URL:https://scalewithknown.com/event/7th-annual-real-estate-west-forum/
ATTACH;FMTTYPE=image/avif:https://scalewithknown.com/wp-content/uploads/2024/04/photo-1580643060634-22188c7866c7.avif
END:VEVENT
END:VCALENDAR